BEGIN:VCALENDAR
VERSION:2.0
PRODID:-//wp-events-plugin.com//7.2.3.1//EN
BEGIN:VEVENT
UID:101@rhythm-and-praise.de
DTSTART:20230708T190000Z
DTEND:20230708T210000Z
DTSTAMP:20230110T191219Z
URL:https://www.rhythm-and-praise.de/events/benefizkonzert-2023/
SUMMARY:Benefizkonzert 2023
DESCRIPTION:
END:VEVENT
END:VCALENDAR