BEGIN:VCALENDAR
VERSION:2.0
PRODID:-//wp-events-plugin.com//7.2.3.1//EN
BEGIN:VEVENT
UID:102@rhythm-and-praise.de
DTSTART:20231110T000000Z
DTEND:20231112T000000Z
DTSTAMP:20231012T065418Z
URL:https://www.rhythm-and-praise.de/events/chorwochenende-2023/
SUMMARY:Chorwochenende 2023
DESCRIPTION:
LOCATION:Kirche im Aufbruch\, Nordalb 1\, Deggingen\, 73326\, Deutschland
X-APPLE-STRUCTURED-LOCATION;VALUE=URI;X-ADDRESS=Nordalb 1\, Deggingen\, 733
 26\, Deutschland;X-APPLE-RADIUS=100;X-TITLE=Kirche im Aufbruch:geo:0,0
END:VEVENT
END:VCALENDAR