BEGIN:VCALENDAR
VERSION:2.0
PRODID:-//wp-events-plugin.com//7.2.3.1//EN
BEGIN:VEVENT
UID:96@rhythm-and-praise.de
DTSTART:20230212T100000Z
DTEND:20230212T110000Z
DTSTAMP:20230110T191243Z
URL:https://www.rhythm-and-praise.de/events/gottesdienst-1000-uhr/
SUMMARY:Gottesdienst
DESCRIPTION:
LOCATION:Auferstehungskirche\, Mörikestraße 8\, Ostfildern\, Baden-Württ
 emberg\, 73760\, Deutschland
X-APPLE-STRUCTURED-LOCATION;VALUE=URI;X-ADDRESS=Mörikestraße 8\, Ostfilde
 rn\, Baden-Württemberg\, 73760\, Deutschland;X-APPLE-RADIUS=100;X-TITLE=A
 uferstehungskirche:geo:0,0
END:VEVENT
END:VCALENDAR