BEGIN:VCALENDAR
VERSION:2.0
PRODID:-//wp-events-plugin.com//7.2.3.1//EN
BEGIN:VEVENT
UID:40@rhythm-and-praise.de
DTSTART:20221016T100000Z
DTEND:20221016T110000Z
DTSTAMP:20221002T064939Z
URL:https://www.rhythm-and-praise.de/events/gottesdienst-in-der-auferstehu
 ngskirche-ruit/
SUMMARY:Gottesdienst
DESCRIPTION:
LOCATION:Auferstehungskirche\, Mörikestraße 8\, Ostfildern\, Baden-Württ
 emberg\, 73760\, Deutschland
X-APPLE-STRUCTURED-LOCATION;VALUE=URI;X-ADDRESS=Mörikestraße 8\, Ostfilde
 rn\, Baden-Württemberg\, 73760\, Deutschland;X-APPLE-RADIUS=100;X-TITLE=A
 uferstehungskirche:geo:0,0
END:VEVENT
END:VCALENDAR