BEGIN:VCALENDAR
VERSION:2.0
PRODID:-//wp-events-plugin.com//7.2.3.1//EN
BEGIN:VEVENT
UID:104@rhythm-and-praise.de
DTSTART:20240921T100000Z
DTEND:20240921T180000Z
DTSTAMP:20240203T103035Z
URL:https://www.rhythm-and-praise.de/events/probensamstag-2/
SUMMARY:Probensamstag
DESCRIPTION:
LOCATION:Grundschule Ruit\, Justinus-Kerner-Weg 40\, Ruit\, 73760\, Deutsch
 land
X-APPLE-STRUCTURED-LOCATION;VALUE=URI;X-ADDRESS=Justinus-Kerner-Weg 40\, Ru
 it\, 73760\, Deutschland;X-APPLE-RADIUS=100;X-TITLE=Grundschule Ruit:geo:0
 ,0
END:VEVENT
END:VCALENDAR